BEGIN:VCALENDAR
VERSION:2.0
PRODID:-//The Cowboy Calendar - ECPv6.15.20//NONSGML v1.0//EN
CALSCALE:GREGORIAN
METHOD:PUBLISH
X-WR-CALNAME:The Cowboy Calendar
X-ORIGINAL-URL:https://thecowboycalendar.com
X-WR-CALDESC:Events for The Cowboy Calendar
REFRESH-INTERVAL;VALUE=DURATION:PT1H
X-Robots-Tag:noindex
X-PUBLISHED-TTL:PT1H
BEGIN:VTIMEZONE
TZID:Pacific/Honolulu
BEGIN:STANDARD
TZOFFSETFROM:-1000
TZOFFSETTO:-1000
TZNAME:HST
DTSTART:20230101T000000
END:STANDARD
END:VTIMEZONE
BEGIN:VEVENT
DTSTART;TZID=Pacific/Honolulu:20240330T090000
DTEND;TZID=Pacific/Honolulu:20240330T170000
DTSTAMP:20260423T003134
CREATED:20240229T070422Z
LAST-MODIFIED:20240229T070422Z
UID:9684-1711789200-1711818000@thecowboycalendar.com
SUMMARY:Gunstock Ranch Easter Team Sorting - Mar 30\, 2024
DESCRIPTION:It’s ba-a-a-ck! The 2024 Easter Team Sorting at Gunstock Ranch is set for Saturday\, March 30. Sign-ups and team-making at 9; Sorting starts at 10. Don’t be late or it will be hard to find partners. Teams form FAST!!! Three-man teams. $15/man/go. There will be an Open Division\, followed by a Mixed Novice Division (one pro per team). Free to spectators and free parking. Contestants\, please bring cash. See you in the arena!
URL:https://thecowboycalendar.com/event/gunstock-ranch-easter-team-sorting-mar-30-2024/
LOCATION:Gunstock Ranch\, 56-250 Kamehameha Hwy\, Laie\, HI\, 96762\, United States
CATEGORIES:2024,Team Sorting
ATTACH;FMTTYPE=image/jpeg:https://thecowboycalendar.com/wp-content/uploads/2024/02/Gunstock-Easter-Sorting-02-28-24.jpg
ORGANIZER;CN="Greg Smith":MAILTO:nsranchmom@gmail.com
END:VEVENT
END:VCALENDAR