BEGIN:VCALENDAR
VERSION:2.0
PRODID:-//The Cowboy Calendar - ECPv6.15.20//NONSGML v1.0//EN
CALSCALE:GREGORIAN
METHOD:PUBLISH
X-ORIGINAL-URL:https://thecowboycalendar.com
X-WR-CALDESC:Events for The Cowboy Calendar
REFRESH-INTERVAL;VALUE=DURATION:PT1H
X-Robots-Tag:noindex
X-PUBLISHED-TTL:PT1H
BEGIN:VTIMEZONE
TZID:Pacific/Honolulu
BEGIN:STANDARD
TZOFFSETFROM:-1000
TZOFFSETTO:-1000
TZNAME:HST
DTSTART:20230101T000000
END:STANDARD
END:VTIMEZONE
BEGIN:VEVENT
DTSTART;TZID=Pacific/Honolulu:20240219T090000
DTEND;TZID=Pacific/Honolulu:20240219T170000
DTSTAMP:20260423T015459
CREATED:20240209T031239Z
LAST-MODIFIED:20240209T031239Z
UID:9663-1708333200-1708362000@thecowboycalendar.com
SUMMARY:Gunstock Ranch President's Day Team Sorting Practice
DESCRIPTION:Gunstock Ranch will host a Team Sorting Practice and “small kine sorting jackpot” on Monday\, Feb. 19. Start time is 9AM.
URL:https://thecowboycalendar.com/event/gunstock-ranch-presidents-day-team-sorting-practice/
LOCATION:Gunstock Ranch\, 56-250 Kamehameha Hwy\, Laie\, HI\, 96762\, United States
CATEGORIES:2024,Team Sorting
ATTACH;FMTTYPE=image/jpeg:https://thecowboycalendar.com/wp-content/uploads/2024/02/Gunstock-Presidents-Day-2024.jpg
ORGANIZER;CN="Greg Smith":MAILTO:nsranchmom@gmail.com
END:VEVENT
BEGIN:VEVENT
DTSTART;TZID=Pacific/Honolulu:20240224T153000
DTEND;TZID=Pacific/Honolulu:20240224T193000
DTSTAMP:20260423T015459
CREATED:20240112T171820Z
LAST-MODIFIED:20240112T171820Z
UID:9659-1708788600-1708803000@thecowboycalendar.com
SUMMARY:Chip Campbell Memorial Team Sorting\, Feb. 24\, 2024
DESCRIPTION:The Chip Campbell Memorial Team Sorting has been re-scheduled for Saturday\, Feb. 24\, at DK Ranch in Waimanalo. Sign-ups and registration at 3:30; sorting starts at 4:30. Don’t be late or it will be hard to find partners. . . Teams are made FAST!!
URL:https://thecowboycalendar.com/event/chip-campbell-memorial-team-sorting-feb-24-2024/
LOCATION:DK Ranch\, 41-1801 Kalanianaole Hwy\, Waimanalo\, HI\, 96796\, United States
CATEGORIES:2024,Team Sorting
ATTACH;FMTTYPE=image/jpeg:https://thecowboycalendar.com/wp-content/uploads/2024/01/ChipCampbellBuckles.jpg
ORGANIZER;CN="Summer Campbell":MAILTO:sonnykamakana@yahoo.com
END:VEVENT
END:VCALENDAR