BEGIN:VCALENDAR
VERSION:2.0
PRODID:-//The Cowboy Calendar - ECPv6.15.20//NONSGML v1.0//EN
CALSCALE:GREGORIAN
METHOD:PUBLISH
X-WR-CALNAME:The Cowboy Calendar
X-ORIGINAL-URL:https://thecowboycalendar.com
X-WR-CALDESC:Events for The Cowboy Calendar
REFRESH-INTERVAL;VALUE=DURATION:PT1H
X-Robots-Tag:noindex
X-PUBLISHED-TTL:PT1H
BEGIN:VTIMEZONE
TZID:Pacific/Honolulu
BEGIN:STANDARD
TZOFFSETFROM:-1000
TZOFFSETTO:-1000
TZNAME:HST
DTSTART:20220101T000000
END:STANDARD
END:VTIMEZONE
BEGIN:VEVENT
DTSTART;TZID=Pacific/Honolulu:20230904T080000
DTEND;TZID=Pacific/Honolulu:20230904T170000
DTSTAMP:20260423T104914
CREATED:20230819T200227Z
LAST-MODIFIED:20230819T200227Z
UID:9575-1693814400-1693846800@thecowboycalendar.com
SUMMARY:Gunstock Ranch Labor Day Team  Sorting Event - Sept. 4\, 2023
DESCRIPTION:DON’T MISS THIS!! Gunstock Ranch is hosting a Team Sorting on Labor Day\, Monday\, Sept. 4. Registration and sign-up at 8 A.M. Competition starts at 9. Come early or it may be hard to find partners — teams are formed FAST!!! \nCost is $10/man/run. For more info\, contact Greg Smith. \nIn addition\, Gunstock is offering a Team Sorting practice on Saturday\, Aug. 26. Practice pens will be set up\, so come practice with your teams or if you’re new to the game\, this is your opportunity to learn the rules and make some practice runs. Cost for the practice is $25. \n 
URL:https://thecowboycalendar.com/event/gunstock-ranch-labor-day-team-sorting-event-sept-4-2023/
LOCATION:Gunstock Ranch\, 56-250 Kamehameha Hwy\, Laie\, HI\, 96762\, United States
CATEGORIES:2023,Team Sorting
ATTACH;FMTTYPE=image/jpeg:https://thecowboycalendar.com/wp-content/uploads/2023/08/gunstock_labor_day_2023.jpg
ORGANIZER;CN="Greg Smith":MAILTO:nsranchmom@gmail.com
END:VEVENT
END:VCALENDAR