BEGIN:VCALENDAR
VERSION:2.0
PRODID:-//The Cowboy Calendar - ECPv6.15.20//NONSGML v1.0//EN
CALSCALE:GREGORIAN
METHOD:PUBLISH
X-WR-CALNAME:The Cowboy Calendar
X-ORIGINAL-URL:https://thecowboycalendar.com
X-WR-CALDESC:Events for The Cowboy Calendar
REFRESH-INTERVAL;VALUE=DURATION:PT1H
X-Robots-Tag:noindex
X-PUBLISHED-TTL:PT1H
BEGIN:VTIMEZONE
TZID:Pacific/Honolulu
BEGIN:STANDARD
TZOFFSETFROM:-1000
TZOFFSETTO:-1000
TZNAME:HST
DTSTART:20220101T000000
END:STANDARD
END:VTIMEZONE
BEGIN:VEVENT
DTSTART;TZID=Pacific/Honolulu:20230826T090000
DTEND;TZID=Pacific/Honolulu:20230826T120000
DTSTAMP:20260423T122008
CREATED:20230819T195458Z
LAST-MODIFIED:20230819T200637Z
UID:9573-1693040400-1693051200@thecowboycalendar.com
SUMMARY:Gunstock Ranch - Team Sorting Practice - Aug. 26\, 2023
DESCRIPTION:Gunstock Ranch is hosting a Team Sorting practice on Saturday\, Aug. 26. Practice pens will be set up\, so come practice with your teams to get ready for the LABOR DAY TEAM SORTING EVENT. Or if you’re new to the game\, this is your opportunity to learn the rules and make some practice runs. \nThe following week\, on Labor Day\, Gunstock will host a Team Sorting event. Cost for the practice session is $25. For more info contact Greg Smith.
URL:https://thecowboycalendar.com/event/gunstock-ranch-team-sorting-practice-aug-26-2023/
LOCATION:Gunstock Ranch\, 56-250 Kamehameha Hwy\, Laie\, HI\, 96762\, United States
CATEGORIES:2023,Team Sorting
ATTACH;FMTTYPE=image/jpeg:https://thecowboycalendar.com/wp-content/uploads/2023/08/gunstock_labor_day_2023.jpg
ORGANIZER;CN="Greg Smith":MAILTO:nsranchmom@gmail.com
END:VEVENT
END:VCALENDAR