BEGIN:VCALENDAR
VERSION:2.0
PRODID:-//The Cowboy Calendar - ECPv6.15.20//NONSGML v1.0//EN
CALSCALE:GREGORIAN
METHOD:PUBLISH
X-ORIGINAL-URL:https://thecowboycalendar.com
X-WR-CALDESC:Events for The Cowboy Calendar
REFRESH-INTERVAL;VALUE=DURATION:PT1H
X-Robots-Tag:noindex
X-PUBLISHED-TTL:PT1H
BEGIN:VTIMEZONE
TZID:Pacific/Honolulu
BEGIN:STANDARD
TZOFFSETFROM:-1000
TZOFFSETTO:-1000
TZNAME:HST
DTSTART:20230101T000000
END:STANDARD
END:VTIMEZONE
BEGIN:VEVENT
DTSTART;VALUE=DATE:20240217
DTEND;VALUE=DATE:20240218
DTSTAMP:20260421T014025
CREATED:20240112T170631Z
LAST-MODIFIED:20240209T033507Z
UID:9654-1708128000-1708214399@thecowboycalendar.com
SUMMARY:Valentine's Run! Breakaway\, Barrel Racing & Pole Bending\, Boxing and Reining - Feb. 17\, 2024
DESCRIPTION:Griffith Livestock Company LLC will host open barrel racing\, pole bending and breakaway roping on Feb. 17 at Big Rock Arena. There *may* also be reining and boxing. Stay tuned for details.
URL:https://thecowboycalendar.com/event/breakaway-barrel-racing-pole-bending-at-big-rock-arena-feb-17-2024/
LOCATION:Big Rock Ranch (covered arena)\, 56-970 Kamehameha Hwy\, Kahuku\, 96731\, United States
CATEGORIES:2024,barrel race,Boxing,Griffith Livestock,Reining,Roping
ATTACH;FMTTYPE=image/jpeg:https://thecowboycalendar.com/wp-content/uploads/2024/01/Valentines-Run-2024.jpg
ORGANIZER;CN="BJ Griffith":MAILTO:Hawaiisuperhorse@outlook.com
END:VEVENT
END:VCALENDAR