BEGIN:VCALENDAR
VERSION:2.0
PRODID:-//The Cowboy Calendar - ECPv6.15.20//NONSGML v1.0//EN
CALSCALE:GREGORIAN
METHOD:PUBLISH
X-WR-CALNAME:The Cowboy Calendar
X-ORIGINAL-URL:https://thecowboycalendar.com
X-WR-CALDESC:Events for The Cowboy Calendar
REFRESH-INTERVAL;VALUE=DURATION:PT1H
X-Robots-Tag:noindex
X-PUBLISHED-TTL:PT1H
BEGIN:VTIMEZONE
TZID:Pacific/Honolulu
BEGIN:STANDARD
TZOFFSETFROM:-1000
TZOFFSETTO:-1000
TZNAME:HST
DTSTART:20240101T000000
END:STANDARD
END:VTIMEZONE
BEGIN:VEVENT
DTSTART;VALUE=DATE:20251122
DTEND;VALUE=DATE:20251124
DTSTAMP:20260423T100803
CREATED:20251028T012700Z
LAST-MODIFIED:20251028T013015Z
UID:9754-1763769600-1763942399@thecowboycalendar.com
SUMMARY:BPRC 2025 Versatility Ranch Riding Series - Nov. 22-23\, 2025
DESCRIPTION:Don’t miss the 2025 finale of the Barbers Point Buckle ranch series at Barbers Point Stables – Nov. 22-23\, 2025. It’s a relaxed and fun opportunity for both new and experienced riders to improve the Ranch Horse disciplines. Youth\, Novice and Advanced divisions. The ranch riding classes will be Saturday and the herd work and boxing on Sunday. Classes include: \n\nWalk Only\nWalk-Trot\nRanch Pleasure\nRanch Riding\, Ranch Reining\nRanch Trail\nHerd Work\nBoxing\n\nFor more information\, contact BPRC.VRS@gmail.com. or call/text 808-226-1046 or 808-228-6070. \nFree to spectators and free parking.
URL:https://thecowboycalendar.com/event/bprc-2025-versatility-ranch-riding-series-nov-22-23-2025/
LOCATION:Barbers Point\, Essex St.\, Kapolei\, HI\, 96707\, United States
CATEGORIES:2025,Barbers Point Stables (BPS),Herd Work,Ranch Pleasure,Ranch Reining,Ranch Riding,Ranch Trail,Western Horse Show
ATTACH;FMTTYPE=image/jpeg:https://thecowboycalendar.com/wp-content/uploads/2024/11/BPRC-Ranch-Versatility-Flyer-2025.jpg
ORGANIZER;CN="Susan Johnson":MAILTO:BPRCShowCommittee@gmail.com
END:VEVENT
END:VCALENDAR