BEGIN:VCALENDAR
VERSION:2.0
PRODID:-//The Cowboy Calendar - ECPv6.15.20//NONSGML v1.0//EN
CALSCALE:GREGORIAN
METHOD:PUBLISH
X-WR-CALNAME:The Cowboy Calendar
X-ORIGINAL-URL:https://thecowboycalendar.com
X-WR-CALDESC:Events for The Cowboy Calendar
REFRESH-INTERVAL;VALUE=DURATION:PT1H
X-Robots-Tag:noindex
X-PUBLISHED-TTL:PT1H
BEGIN:VTIMEZONE
TZID:Pacific/Honolulu
BEGIN:STANDARD
TZOFFSETFROM:-1000
TZOFFSETTO:-1000
TZNAME:HST
DTSTART:20220101T000000
END:STANDARD
END:VTIMEZONE
BEGIN:VEVENT
DTSTART;VALUE=DATE:20230606
DTEND;VALUE=DATE:20230612
DTSTAMP:20260423T202158
CREATED:20230328T160455Z
LAST-MODIFIED:20230328T160455Z
UID:9552-1686009600-1686527999@thecowboycalendar.com
SUMMARY:Hawaii High School Rodeo State Finals - June 6-11\, 2023
DESCRIPTION:Don’t miss the Hawaii High School Rodeo State Finals rodeo June 6-11 at New Town & Country Stables in Waimanalo. Contestants from all across the state will be competing in barrel racing\, roping\, bull riding\, pole bending and other events.
URL:https://thecowboycalendar.com/event/hawaii-high-school-rodeo-state-finals-june-6-11-2023/
LOCATION:New Town & Country Stables\, 41-1800 Kalanianaole Hwy\, Waimanalo\, HI\, 96795\, United States
CATEGORIES:2023,High School Rodeo (HHSRA)
END:VEVENT
END:VCALENDAR