BEGIN:VCALENDAR
VERSION:2.0
PRODID:-//The Cowboy Calendar - ECPv6.15.20//NONSGML v1.0//EN
CALSCALE:GREGORIAN
METHOD:PUBLISH
X-ORIGINAL-URL:https://thecowboycalendar.com
X-WR-CALDESC:Events for The Cowboy Calendar
REFRESH-INTERVAL;VALUE=DURATION:PT1H
X-Robots-Tag:noindex
X-PUBLISHED-TTL:PT1H
BEGIN:VTIMEZONE
TZID:Pacific/Honolulu
BEGIN:STANDARD
TZOFFSETFROM:-1000
TZOFFSETTO:-1000
TZNAME:HST
DTSTART:20210101T000000
END:STANDARD
END:VTIMEZONE
BEGIN:VEVENT
DTSTART;VALUE=DATE:20221015
DTEND;VALUE=DATE:20221016
DTSTAMP:20260424T104449
CREATED:20230328T063031Z
LAST-MODIFIED:20230328T063031Z
UID:9538-1665792000-1665878399@thecowboycalendar.com
SUMMARY:Hawaii High School Rodeo (HHSRA) - Oahu District - Oct. 15\, 2022
DESCRIPTION:Hawaii High School Rodeo #1 and #2 at Kualoa Ranch\, Oahu.
URL:https://thecowboycalendar.com/event/hawaii-high-school-rodeo-hhsra-oahu-district-oct-15-2022/
LOCATION:Kualoa Ranch\, 49-560 Kamehameha Hwy\, Kaaawa \, HI\, 96730\, United States
CATEGORIES:2022,High School Rodeo (HHSRA)
END:VEVENT
END:VCALENDAR