BEGIN:VCALENDAR
VERSION:2.0
PRODID:-//The Cowboy Calendar - ECPv6.15.20//NONSGML v1.0//EN
CALSCALE:GREGORIAN
METHOD:PUBLISH
X-WR-CALNAME:The Cowboy Calendar
X-ORIGINAL-URL:https://thecowboycalendar.com
X-WR-CALDESC:Events for The Cowboy Calendar
REFRESH-INTERVAL;VALUE=DURATION:PT1H
X-Robots-Tag:noindex
X-PUBLISHED-TTL:PT1H
BEGIN:VTIMEZONE
TZID:Pacific/Honolulu
BEGIN:STANDARD
TZOFFSETFROM:-1000
TZOFFSETTO:-1000
TZNAME:HST
DTSTART:20230101T000000
END:STANDARD
END:VTIMEZONE
BEGIN:VEVENT
DTSTART;VALUE=DATE:20240203
DTEND;VALUE=DATE:20240204
DTSTAMP:20260423T035838
CREATED:20230909T001253Z
LAST-MODIFIED:20230909T001253Z
UID:9597-1706918400-1707004799@thecowboycalendar.com
SUMMARY:HHSRA Oahu District Rodeo - Kualoa Ranch - Feb. 3\, 2024
DESCRIPTION:C’mon out and support our Oahu District keiki and high school rodeo contestants at Kualoa Ranch.
URL:https://thecowboycalendar.com/event/hhsra-oahu-district-rodeo-kualoa-ranch-feb-3-2024/
LOCATION:Kualoa Ranch\, 49-560 Kamehameha Hwy\, Kaaawa \, HI\, 96730\, United States
CATEGORIES:2024,High School Rodeo (HHSRA)
ATTACH;FMTTYPE=image/jpeg:https://thecowboycalendar.com/wp-content/uploads/2023/09/Oahu-HIgh-School-Rodeo.jpeg
END:VEVENT
END:VCALENDAR