BEGIN:VCALENDAR
VERSION:2.0
PRODID:-//The Cowboy Calendar - ECPv6.15.20//NONSGML v1.0//EN
CALSCALE:GREGORIAN
METHOD:PUBLISH
X-WR-CALNAME:The Cowboy Calendar
X-ORIGINAL-URL:https://thecowboycalendar.com
X-WR-CALDESC:Events for The Cowboy Calendar
REFRESH-INTERVAL;VALUE=DURATION:PT1H
X-Robots-Tag:noindex
X-PUBLISHED-TTL:PT1H
BEGIN:VTIMEZONE
TZID:Pacific/Honolulu
BEGIN:STANDARD
TZOFFSETFROM:-1000
TZOFFSETTO:-1000
TZNAME:HST
DTSTART:20220101T000000
END:STANDARD
END:VTIMEZONE
BEGIN:VEVENT
DTSTART;TZID=Pacific/Honolulu:20231110T173000
DTEND;TZID=Pacific/Honolulu:20231111T213000
DTSTAMP:20260423T010156
CREATED:20230909T003939Z
LAST-MODIFIED:20231017T061300Z
UID:9611-1699637400-1699738200@thecowboycalendar.com
SUMMARY:Hawai’i Stock Horse Show - Dedicated to the Memory of Bobby Napier - Nov. 10-11\, 2023
DESCRIPTION:This show is dedicated to the memory of Bobby Napier!!! \nGet your ponies legged up for the first Hawaii Stock Horse Show on Nov. 11-12. This show will include herd work\, reining \, boxing and team penning. You can show in individual events or create a team. One person boxes\, one person reins\, one person does herd work. That 3 man team then uses those same 3 horses and team members they used in those events to do a three man team penning. Highest combined team score+fastest time gets team buckles. Show starts at 5:30 p.m. each day. For more info\, contact BJ Griffith.
URL:https://thecowboycalendar.com/event/hawaii-stock-horse-show-nov-10-11-2023/
LOCATION:New Town & Country Stables\, 41-1800 Kalanianaole Hwy\, Waimanalo\, HI\, 96795\, United States
CATEGORIES:Boxing,Cutting,Hawaii Super Horse,Herd Work,Reining,Team Penning
ATTACH;FMTTYPE=image/jpeg:https://thecowboycalendar.com/wp-content/uploads/2017/06/Old-Timey-Pic.jpg
ORGANIZER;CN="BJ Griffith":MAILTO:Hawaiisuperhorse@outlook.com
END:VEVENT
END:VCALENDAR