BEGIN:VCALENDAR
VERSION:2.0
PRODID:-//The Cowboy Calendar - ECPv6.15.20//NONSGML v1.0//EN
CALSCALE:GREGORIAN
METHOD:PUBLISH
X-ORIGINAL-URL:https://thecowboycalendar.com
X-WR-CALDESC:Events for The Cowboy Calendar
REFRESH-INTERVAL;VALUE=DURATION:PT1H
X-Robots-Tag:noindex
X-PUBLISHED-TTL:PT1H
BEGIN:VTIMEZONE
TZID:Pacific/Honolulu
BEGIN:STANDARD
TZOFFSETFROM:-1000
TZOFFSETTO:-1000
TZNAME:HST
DTSTART:20220101T000000
END:STANDARD
END:VTIMEZONE
BEGIN:VEVENT
DTSTART;TZID=Pacific/Honolulu:20230402T160000
DTEND;TZID=Pacific/Honolulu:20230402T200000
DTSTAMP:20260421T182415
CREATED:20230315T164618Z
LAST-MODIFIED:20230315T170611Z
UID:9529-1680451200-1680465600@thecowboycalendar.com
SUMMARY:Equine Shockwave Therapy Informational Meeting - April 2\, 2023
DESCRIPTION:Learn more about equine shockwave therapy available here on Oahu. \nJoin Kahua Veterinary Rehabilitation & Acupuncture for food and drinks while learning about the LATEST therapeutic option for injury recovery or chronic pain offered to horses. Hawaii Polo Club-Clubhouse. Sunday\, April 2\, from 4-8 p.m. 68-441 Farrington Hwy.\, Waialua\, HI 96791 \nPre-registration is required. For more information and to RSVP\, email kahuavetrehab@gmail.com or visit this site: https://www.surveymonkey.com/r/RMKHP3R. \nThis event is open to all horse owners on Oahu. RSVPs must be received by March 31\, 2023.
URL:https://thecowboycalendar.com/event/equine-shockwave-therapy-informational-meeting-april-2-2023/
LOCATION:Hawaii Polo Club\, 68-411 Farrington Hwy.\, Waialua\, HI\, 96791\, United States
CATEGORIES:2023,Equine Informational Meeting
ATTACH;FMTTYPE=image/jpeg:https://thecowboycalendar.com/wp-content/uploads/2023/03/Polo-Club-Invite.jpg
END:VEVENT
END:VCALENDAR