BEGIN:VCALENDAR
VERSION:2.0
PRODID:-//The Cowboy Calendar - ECPv6.15.20//NONSGML v1.0//EN
CALSCALE:GREGORIAN
METHOD:PUBLISH
X-WR-CALNAME:The Cowboy Calendar
X-ORIGINAL-URL:https://thecowboycalendar.com
X-WR-CALDESC:Events for The Cowboy Calendar
REFRESH-INTERVAL;VALUE=DURATION:PT1H
X-Robots-Tag:noindex
X-PUBLISHED-TTL:PT1H
BEGIN:VTIMEZONE
TZID:Pacific/Honolulu
BEGIN:STANDARD
TZOFFSETFROM:-1000
TZOFFSETTO:-1000
TZNAME:HST
DTSTART:20220101T000000
END:STANDARD
END:VTIMEZONE
BEGIN:VEVENT
DTSTART;TZID=Pacific/Honolulu:20231028T090000
DTEND;TZID=Pacific/Honolulu:20231028T170000
DTSTAMP:20260422T192722
CREATED:20231004T002554Z
LAST-MODIFIED:20231004T002554Z
UID:9616-1698483600-1698512400@thecowboycalendar.com
SUMMARY:Halloween Spooktacular at Kualoa Ranch - Oct. 28\, 2023
DESCRIPTION:Don’t miss the Halloween Spooktacular at Kualoa Ranch\, Saturday\, Oct. 28\, 2023.  The fun starts at 9AM and will include a costume contest (with trophies to be awarded) 3D Barrel Race\, 3D Pole Bending and an Open & Keiki Gymkhana Funday. Entries are due by Oct. 21. Buckles for the 3D Open & Keiki Champions. For more info\, contact Debbie at 8O8-542-6549.
URL:https://thecowboycalendar.com/event/halloween-spooktacular-at-kualoa-ranch-oct-28-2023/
LOCATION:Kualoa Ranch\, 49-560 Kamehameha Hwy\, Kaaawa \, HI\, 96730\, United States
CATEGORIES:2023,barrel race,Fun Day/Gymkhana,Play Day/Fun Day
ATTACH;FMTTYPE=image/jpeg:https://thecowboycalendar.com/wp-content/uploads/2023/10/DebbieE_Spooktacular2023.jpg
ORGANIZER;CN="Debbie Eguires":MAILTO:debegucowgirl@yahoo.com
END:VEVENT
END:VCALENDAR