BEGIN:VCALENDAR
VERSION:2.0
PRODID:-//The Cowboy Calendar - ECPv6.15.20//NONSGML v1.0//EN
CALSCALE:GREGORIAN
METHOD:PUBLISH
X-WR-CALNAME:The Cowboy Calendar
X-ORIGINAL-URL:https://thecowboycalendar.com
X-WR-CALDESC:Events for The Cowboy Calendar
REFRESH-INTERVAL;VALUE=DURATION:PT1H
X-Robots-Tag:noindex
X-PUBLISHED-TTL:PT1H
BEGIN:VTIMEZONE
TZID:Pacific/Honolulu
BEGIN:STANDARD
TZOFFSETFROM:-1000
TZOFFSETTO:-1000
TZNAME:HST
DTSTART:20230101T000000
END:STANDARD
END:VTIMEZONE
BEGIN:VEVENT
DTSTART;VALUE=DATE:20241012
DTEND;VALUE=DATE:20241014
DTSTAMP:20260421T195505
CREATED:20240314T170408Z
LAST-MODIFIED:20240314T213338Z
UID:9688-1728691200-1728863999@thecowboycalendar.com
SUMMARY:Rope for Wishes Rodeo - Oct. 12-13\, 2024
DESCRIPTION:SAVE THE DATE!  \nAfter a Covid-induced hiatus\, the Rope For Wishes Rodeo is back. Don’t miss this opportunity for friendly rodeo competition that will benefit the Make-A-Wish foundation\, granting wishes for seriously ill children. \nDate:  October 12th and 13th 2024 \nWhere:  Kualoa Ranch\, Oahu \nDetails will be forthcoming. For more info\, contact Kathy Rita\, ktrita4rodeo@gmail.com.
URL:https://thecowboycalendar.com/event/rope-for-wishes-rodeo-oct-12-13-2024/
LOCATION:Kualoa Ranch\, 49-560 Kamehameha Hwy\, Kaaawa \, HI\, 96730\, United States
CATEGORIES:2024,barrel race,Bull Riding,rodeo,Roping
ATTACH;FMTTYPE=image/jpeg:https://thecowboycalendar.com/wp-content/uploads/2024/03/RopeForWishes2024.jpeg
END:VEVENT
BEGIN:VEVENT
DTSTART;VALUE=DATE:20241026
DTEND;VALUE=DATE:20241027
DTSTAMP:20260421T195505
CREATED:20240816T000803Z
LAST-MODIFIED:20240816T001343Z
UID:9710-1729900800-1729987199@thecowboycalendar.com
SUMMARY:Spooktacular Funday - Oct. 26\, 2024
DESCRIPTION:Don’t miss the annual Spooktacular Funday at Kualoa Ranch. Saturday\, Oct. 26\, starting at 9AM. Barrels\, poles\, costume contest and gymkhana events. For more info\, contact Debbie Eguires.
URL:https://thecowboycalendar.com/event/spooktacular-funday-oct-26-2024/
LOCATION:Kualoa Ranch\, United States
CATEGORIES:2024,barrel race,Fun Day/Gymkhana
ORGANIZER;CN="Debbie Eguires":MAILTO:debegucowgirl@yahoo.com
END:VEVENT
BEGIN:VEVENT
DTSTART;TZID=Pacific/Honolulu:20241026T073000
DTEND;TZID=Pacific/Honolulu:20241026T170000
DTSTAMP:20260421T195505
CREATED:20240101T201831Z
LAST-MODIFIED:20240101T201855Z
UID:9648-1729927800-1729962000@thecowboycalendar.com
SUMMARY:Barbers Point 4th Annual Halloween Fun Day - Oct. 26\, 2024
DESCRIPTION:SAVE THE DATE!! Barbers Riding Club is hosting the 4th  annual Halloween Fun Day on Saturday\, Oct. 26th. Gates open at 7:30AM. Costume contest on the Green (with or without a horse) at 9AM\, followed by a trick-or-treat parade around the stables. Riding events start at 10:30AM and include barrel race\, keyhole race\, baton race\, water bucket relay\, musical cones\, ribbon race\, tandem pole bending\, egg & spoon race\, slow-walk race. Some events will have SPOOKY additions! There will be a food booth open for lunch.
URL:https://thecowboycalendar.com/event/barbers-point-4th-annual-halloween-fun-day-oct-26-2024/
LOCATION:Barbers Point\, Essex St.\, Kapolei\, HI\, 96707\, United States
CATEGORIES:2024,Barbers Point Stables (BPS),barrel race,Fun Day/Gymkhana,Play Day/Fun Day
ORGANIZER;CN="Susan Johnson":MAILTO:BPRCShowCommittee@gmail.com
END:VEVENT
END:VCALENDAR